BEGIN:VCALENDAR
VERSION:2.0
PRODID:-//Tukios.com/
BEGIN:VEVENT
UID:27719da0-6ba1-4ecf-a537-f8a675a64ba6@www.mcdonaldfamilyfuneralhome.com
DTSTAMP:20260421T050351Z
DTSTART:20260502
SUMMARY:Memorial Service
DESCRIPTION:Times will be announced ASAP
URL:https://www.mcdonaldfamilyfuneralhome.com/obituaries/gloria-anderson-hollingsworth
LOCATION: 668 Walton Rd  Defuniak Springs FL 32433
GEO:30.7431303;-86.1261421
END:VEVENT
END:VCALENDAR