BEGIN:VCALENDAR
VERSION:2.0
PRODID:-//Tukios.com/
BEGIN:VEVENT
UID:5c8abce3-cdfe-4bf0-853c-f4fbd62b25c5@www.mcdonaldfamilyfuneralhome.com
DTSTAMP:20260425T204443Z
DTSTART:20260427T190000Z
DTEND:20260427T200000Z
SUMMARY:Graveside Service
DESCRIPTION:
URL:https://www.mcdonaldfamilyfuneralhome.com/obituaries/cody-miller
LOCATION: 222 North Park Street  DeFuniak Springs FL 32433
GEO:30.7260007;-86.0993768
END:VEVENT
END:VCALENDAR